BEGIN:VCALENDAR
VERSION:2.0
PRODID:-//Fulham Community Centre - ECPv5.3.2.1//NONSGML v1.0//EN
CALSCALE:GREGORIAN
METHOD:PUBLISH
X-WR-CALNAME:Fulham Community Centre
X-ORIGINAL-URL:https://fulhamcc.com.au
X-WR-CALDESC:Events for Fulham Community Centre
BEGIN:VTIMEZONE
TZID:Australia/Adelaide
BEGIN:STANDARD
TZOFFSETFROM:+1030
TZOFFSETTO:+0930
TZNAME:ACST
DTSTART:20200404T163000
END:STANDARD
BEGIN:DAYLIGHT
TZOFFSETFROM:+0930
TZOFFSETTO:+1030
TZNAME:ACDT
DTSTART:20201003T163000
END:DAYLIGHT
END:VTIMEZONE
BEGIN:VEVENT
DTSTART;TZID=Australia/Adelaide:20201030T091500
DTEND;TZID=Australia/Adelaide:20201030T103000
DTSTAMP:20210224T131705
CREATED:20201027T024207Z
LAST-MODIFIED:20201027T024210Z
UID:1189-1604049300-1604053800@fulhamcc.com.au
SUMMARY:The Kiddie Spooooky Party
DESCRIPTION:Ready for Halloween?  \nLet’s have a spooooooooky party for the kids in the Playhood Creche!  \nDon’t forget your kid’s costume! Bookings in the Playhood Creche are essential  \nBooooooooooooo 
URL:https://fulhamcc.com.au/event/the-kiddie-spooooky-party/
END:VEVENT
END:VCALENDAR